Workbook

Sheet 대상현황(갑) 
A1: 인하대학교 연구/실험실 현황
F2: 2024.03.13
A3: 대학/ 연구소 | B3: 학 부(과) | C3: 실험실수 | D3: 위 험 등 급 | G3: 서 명
D4: 고위험 | E4: 중위험 | F4: 저위험
A5: 공과대학 | B5: 기계공학과 | C5: =D5+E5+F5 -> 31 | D5: =COUNTIFS(연구실리스트!$C$4:$C$339,'대상현황(갑) '!B5,연구실리스트!$E$4:$E$339,'대상현황(갑) '!D$4) -> 17 | E5: =COUNTIFS(연구실리스트!$C$4:$C$339,'대상현황(갑) '!B5,연구실리스트!$E$4:$E$339,'대상현황(갑) '!E$4) -> 10 | F5: =COUNTIFS(연구실리스트!$C$4:$C$339,'대상현황(갑) '!B5,연구실리스트!$E$4:$E$339,'대상현황(갑) '!F$4) -> 4
B6: 항공우주공학과 | C6: =D6+E6+F6 -> 10 | D6: =COUNTIFS(연구실리스트!$C$4:$C$339,'대상현황(갑) '!B6,연구실리스트!$E$4:$E$339,'대상현황(갑) '!D$4) -> 4 | E6: =COUNTIFS(연구실리스트!$C$4:$C$339,'대상현황(갑) '!B6,연구실리스트!$E$4:$E$339,'대상현황(갑) '!E$4) -> 3 | F6: =COUNTIFS(연구실리스트!$C$4:$C$339,'대상현황(갑) '!B6,연구실리스트!$E$4:$E$339,'대상현황(갑) '!F$4) -> 3
B7: 조선해양공학과 | C7: =D7+E7+F7 -> 7 | D7: =COUNTIFS(연구실리스트!$C$4:$C$339,'대상현황(갑) '!B7,연구실리스트!$E$4:$E$339,'대상현황(갑) '!D$4) -> 3 | E7: =COUNTIFS(연구실리스트!$C$4:$C$339,'대상현황(갑) '!B7,연구실리스트!$E$4:$E$339,'대상현황(갑) '!E$4) -> 3 | F7: =COUNTIFS(연구실리스트!$C$4:$C$339,'대상현황(갑) '!B7,연구실리스트!$E$4:$E$339,'대상현황(갑) '!F$4) -> 1
B8: 산업경영공학과 | C8: =D8+E8+F8 -> 1 | D8: =COUNTIFS(연구실리스트!$C$4:$C$339,'대상현황(갑) '!B8,연구실리스트!$E$4:$E$339,'대상현황(갑) '!D$4) -> 0 | E8: =COUNTIFS(연구실리스트!$C$4:$C$339,'대상현황(갑) '!B8,연구실리스트!$E$4:$E$339,'대상현황(갑) '!E$4) -> 0 | F8: =COUNTIFS(연구실리스트!$C$4:$C$339,'대상현황(갑) '!B8,연구실리스트!$E$4:$E$339,'대상현황(갑) '!F$4) -> 1
B9: 화학공학과 | C9: =D9+E9+F9 -> 29 | D9: =COUNTIFS(연구실리스트!$C$4:$C$339,'대상현황(갑) '!B9,연구실리스트!$E$4:$E$339,'대상현황(갑) '!D$4) -> 28 | E9: =COUNTIFS(연구실리스트!$C$4:$C$339,'대상현황(갑) '!B9,연구실리스트!$E$4:$E$339,'대상현황(갑) '!E$4) -> 0 | F9: =COUNTIFS(연구실리스트!$C$4:$C$339,'대상현황(갑) '!B9,연구실리스트!$E$4:$E$339,'대상현황(갑) '!F$4) -> 1
B10: 고분자공학과 | C10: =D10+E10+F10 -> 12 | D10: =COUNTIFS(연구실리스트!$C$4:$C$339,'대상현황(갑) '!B10,연구실리스트!$E$4:$E$339,'대상현황(갑) '!D$4) -> 12 | E10: =COUNTIFS(연구실리스트!$C$4:$C$339,'대상현황(갑) '!B10,연구실리스트!$E$4:$E$339,'대상현황(갑) '!E$4) -> 0 | F10: =COUNTIFS(연구실리스트!$C$4:$C$339,'대상현황(갑) '!B10,연구실리스트!$E$4:$E$339,'대상현황(갑) '!F$4) -> 0
B11: 신소재공학과 | C11: =D11+E11+F11 -> 28 | D11: =COUNTIFS(연구실리스트!$C$4:$C$339,'대상현황(갑) '!B11,연구실리스트!$E$4:$E$339,'대상현황(갑) '!D$4) -> 24 | E11: =COUNTIFS(연구실리스트!$C$4:$C$339,'대상현황(갑) '!B11,연구실리스트!$E$4:$E$339,'대상현황(갑) '!E$4) -> 1 | F11: =COUNTIFS(연구실리스트!$C$4:$C$339,'대상현황(갑) '!B11,연구실리스트!$E$4:$E$339,'대상현황(갑) '!F$4) -> 3
B12: 에너지자원공학과 | C12: =D12+E12+F12 -> 5 | D12: =COUNTIFS(연구실리스트!$C$4:$C$339,'대상현황(갑) '!B12,연구실리스트!$E$4:$E$339,'대상현황(갑) '!D$4) -> 3 | E12: =COUNTIFS(연구실리스트!$C$4:$C$339,'대상현황(갑) '!B12,연구실리스트!$E$4:$E$339,'대상현황(갑) '!E$4) -> 2 | F12: =COUNTIFS(연구실리스트!$C$4:$C$339,'대상현황(갑) '!B12,연구실리스트!$E$4:$E$339,'대상현황(갑) '!F$4) -> 0
B13: 환경공학과 | C13: =D13+E13+F13 -> 15 | D13: =COUNTIFS(연구실리스트!$C$4:$C$339,'대상현황(갑) '!B13,연구실리스트!$E$4:$E$339,'대상현황(갑) '!D$4) -> 14 | E13: =COUNTIFS(연구실리스트!$C$4:$C$339,'대상현황(갑) '!B13,연구실리스트!$E$4:$E$339,'대상현황(갑) '!E$4) -> 1 | F13: =COUNTIFS(연구실리스트!$C$4:$C$339,'대상현황(갑) '!B13,연구실리스트!$E$4:$E$339,'대상현황(갑) '!F$4) -> 0
B14: 사회인프라공학과 | C14: =D14+E14+F14 -> 6 | D14: =COUNTIFS(연구실리스트!$C$4:$C$339,'대상현황(갑) '!B14,연구실리스트!$E$4:$E$339,'대상현황(갑) '!D$4) -> 2 | E14: =COUNTIFS(연구실리스트!$C$4:$C$339,'대상현황(갑) '!B14,연구실리스트!$E$4:$E$339,'대상현황(갑) '!E$4) -> 3 | F14: =COUNTIFS(연구실리스트!$C$4:$C$339,'대상현황(갑) '!B14,연구실리스트!$E$4:$E$339,'대상현황(갑) '!F$4) -> 1
B15: 건축공학과 | C15: =D15+E15+F15 -> 3 | D15: =COUNTIFS(연구실리스트!$C$4:$C$339,'대상현황(갑) '!B15,연구실리스트!$E$4:$E$339,'대상현황(갑) '!D$4) -> 0 | E15: =COUNTIFS(연구실리스트!$C$4:$C$339,'대상현황(갑) '!B15,연구실리스트!$E$4:$E$339,'대상현황(갑) '!E$4) -> 2 | F15: =COUNTIFS(연구실리스트!$C$4:$C$339,'대상현황(갑) '!B15,연구실리스트!$E$4:$E$339,'대상현황(갑) '!F$4) -> 1
B16: 공간정보공학과 | C16: =D16+E16+F16 -> 2 | D16: =COUNTIFS(연구실리스트!$C$4:$C$339,'대상현황(갑) '!B16,연구실리스트!$E$4:$E$339,'대상현황(갑) '!D$4) -> 0 | E16: =COUNTIFS(연구실리스트!$C$4:$C$339,'대상현황(갑) '!B16,연구실리스트!$E$4:$E$339,'대상현황(갑) '!E$4) -> 0 | F16: =COUNTIFS(연구실리스트!$C$4:$C$339,'대상현황(갑) '!B16,연구실리스트!$E$4:$E$339,'대상현황(갑) '!F$4) -> 2
B17: 전기공학과 | C17: =D17+E17+F17 -> 11 | D17: =COUNTIFS(연구실리스트!$C$4:$C$339,'대상현황(갑) '!B17,연구실리스트!$E$4:$E$339,'대상현황(갑) '!D$4) -> 5 | E17: =COUNTIFS(연구실리스트!$C$4:$C$339,'대상현황(갑) '!B17,연구실리스트!$E$4:$E$339,'대상현황(갑) '!E$4) -> 6 | F17: =COUNTIFS(연구실리스트!$C$4:$C$339,'대상현황(갑) '!B17,연구실리스트!$E$4:$E$339,'대상현황(갑) '!F$4) -> 0
... B19: 전자공학과 | C19: =D19+E19+F19 -> 2 | D19: =COUNTIFS(연구실리스트!$C$4:$C$339,'대상현황(갑) '!B19,연구실리스트!$E$4:$E$339,'대상현황(갑) '!D$4) -> 1 | E19: =COUNTIFS(연구실리스트!$C$4:$C$339,'대상현황(갑) '!B19,연구실리스트!$E$4:$E$339,'대상현황(갑) '!E$4) -> 1 | F19: =COUNTIFS(연구실리스트!$C$4:$C$339,'대상현황(갑) '!B19,연구실리스트!$E$4:$E$339,'대상현황(갑) '!F$4) -> 0
B20: 소 계 | C20: =SUM(C5:C19) -> 167 | D20: =SUM(D5:D19) -> 117 | E20: =SUM(E5:E19) -> 33 | F20: =SUM(F5:F19) -> 17
A21: 자연과학대학 | B21: 물리학과 | C21: =D21+E21+F21 -> 20 | D21: =COUNTIFS(연구실리스트!$C$4:$C$339,'대상현황(갑) '!B21,연구실리스트!$E$4:$E$339,'대상현황(갑) '!D$4) -> 7 | E21: =COUNTIFS(연구실리스트!$C$4:$C$339,'대상현황(갑) '!B21,연구실리스트!$E$4:$E$339,'대상현황(갑) '!E$4) -> 7 | F21: =COUNTIFS(연구실리스트!$C$4:$C$339,'대상현황(갑) '!B21,연구실리스트!$E$4:$E$339,'대상현황(갑) '!F$4) -> 6
B22: 화학과 | C22: =D22+E22+F22 -> 33 | D22: =COUNTIFS(연구실리스트!$C$4:$C$339,'대상현황(갑) '!B22,연구실리스트!$E$4:$E$339,'대상현황(갑) '!D$4) -> 23 | E22: =COUNTIFS(연구실리스트!$C$4:$C$339,'대상현황(갑) '!B22,연구실리스트!$E$4:$E$339,'대상현황(갑) '!E$4) -> 8 | F22: =COUNTIFS(연구실리스트!$C$4:$C$339,'대상현황(갑) '!B22,연구실리스트!$E$4:$E$339,'대상현황(갑) '!F$4) -> 2
B23: 식품영양학과 | C23: =D23+E23+F23 -> 9 | D23: =COUNTIFS(연구실리스트!$C$4:$C$339,'대상현황(갑) '!B23,연구실리스트!$E$4:$E$339,'대상현황(갑) '!D$4) -> 5 | E23: =COUNTIFS(연구실리스트!$C$4:$C$339,'대상현황(갑) '!B23,연구실리스트!$E$4:$E$339,'대상현황(갑) '!E$4) -> 2 | F23: =COUNTIFS(연구실리스트!$C$4:$C$339,'대상현황(갑) '!B23,연구실리스트!$E$4:$E$339,'대상현황(갑) '!F$4) -> 2
B24: 통계학과 | C24: =D24+E24+F24 -> 1 | D24: =COUNTIFS(연구실리스트!$C$4:$C$339,'대상현황(갑) '!B24,연구실리스트!$E$4:$E$339,'대상현황(갑) '!D$4) -> 0 | E24: =COUNTIFS(연구실리스트!$C$4:$C$339,'대상현황(갑) '!B24,연구실리스트!$E$4:$E$339,'대상현황(갑) '!E$4) -> 0 | F24: =COUNTIFS(연구실리스트!$C$4:$C$339,'대상현황(갑) '!B24,연구실리스트!$E$4:$E$339,'대상현황(갑) '!F$4) -> 1
B25: 수학과 | C25: =D25+E25+F25 -> 1 | D25: =COUNTIFS(연구실리스트!$C$4:$C$339,'대상현황(갑) '!B25,연구실리스트!$E$4:$E$339,'대상현황(갑) '!D$4) -> 0 | E25: =COUNTIFS(연구실리스트!$C$4:$C$339,'대상현황(갑) '!B25,연구실리스트!$E$4:$E$339,'대상현황(갑) '!E$4) -> 0 | F25: =COUNTIFS(연구실리스트!$C$4:$C$339,'대상현황(갑) '!B25,연구실리스트!$E$4:$E$339,'대상현황(갑) '!F$4) -> 1
B26: 해양과학과 | C26: =D26+E26+F26 -> 9 | D26: =COUNTIFS(연구실리스트!$C$4:$C$339,'대상현황(갑) '!B26,연구실리스트!$E$4:$E$339,'대상현황(갑) '!D$4) -> 3 | E26: =COUNTIFS(연구실리스트!$C$4:$C$339,'대상현황(갑) '!B26,연구실리스트!$E$4:$E$339,'대상현황(갑) '!E$4) -> 6 | F26: =COUNTIFS(연구실리스트!$C$4:$C$339,'대상현황(갑) '!B26,연구실리스트!$E$4:$E$339,'대상현황(갑) '!F$4) -> 0
B27: 소 계 | C27: =SUM(C21:C26) -> 73 | D27: =SUM(D21:D26) -> 38 | E27: =SUM(E21:E26) -> 23 | F27: =SUM(F21:F26) -> 12
A28: 바이오시스템융합학부 | B28: 생명공학과 | C28: =D28+E28+F28 -> 22 | D28: =COUNTIFS(연구실리스트!$C$4:$C$339,'대상현황(갑) '!B28,연구실리스트!$E$4:$E$339,'대상현황(갑) '!D$4) -> 21 | E28: =COUNTIFS(연구실리스트!$C$4:$C$339,'대상현황(갑) '!B28,연구실리스트!$E$4:$E$339,'대상현황(갑) '!E$4) -> 0 | F28: =COUNTIFS(연구실리스트!$C$4:$C$339,'대상현황(갑) '!B28,연구실리스트!$E$4:$E$339,'대상현황(갑) '!F$4) -> 1
B29: 생명과학과 | C29: =D29+E29+F29 -> 20 | D29: =COUNTIFS(연구실리스트!$C$4:$C$339,'대상현황(갑) '!B29,연구실리스트!$E$4:$E$339,'대상현황(갑) '!D$4) -> 13 | E29: =COUNTIFS(연구실리스트!$C$4:$C$339,'대상현황(갑) '!B29,연구실리스트!$E$4:$E$339,'대상현황(갑) '!E$4) -> 7 | F29: =COUNTIFS(연구실리스트!$C$4:$C$339,'대상현황(갑) '!B29,연구실리스트!$E$4:$E$339,'대상현황(갑) '!F$4) -> 0
B30: 소 계 | C30: =SUM(C28:C29) -> 42 | D30: =SUM(D28:D29) -> 34 | E30: =SUM(E28:E29) -> 7 | F30: =SUM(F28:F29) -> 1
A31: 의과대학 | B31: 의과대학 | C31: =D31+E31+F31 -> 22 | D31: =COUNTIFS(연구실리스트!$C$4:$C$339,'대상현황(갑) '!B31,연구실리스트!$E$4:$E$339,'대상현황(갑) '!D$4) -> 19 | E31: =COUNTIFS(연구실리스트!$C$4:$C$339,'대상현황(갑) '!B31,연구실리스트!$E$4:$E$339,'대상현황(갑) '!E$4) -> 2 | F31: =COUNTIFS(연구실리스트!$C$4:$C$339,'대상현황(갑) '!B31,연구실리스트!$E$4:$E$339,'대상현황(갑) '!F$4) -> 1
B32: 간호학과 | C32: =D32+E32+F32 -> 1 | D32: =COUNTIFS(연구실리스트!$C$4:$C$339,'대상현황(갑) '!B32,연구실리스트!$E$4:$E$339,'대상현황(갑) '!D$4) -> 0 | E32: =COUNTIFS(연구실리스트!$C$4:$C$339,'대상현황(갑) '!B32,연구실리스트!$E$4:$E$339,'대상현황(갑) '!E$4) -> 1 | F32: =COUNTIFS(연구실리스트!$C$4:$C$339,'대상현황(갑) '!B32,연구실리스트!$E$4:$E$339,'대상현황(갑) '!F$4) -> 0
B33: 소 계 | C33: =SUM(C31:C32) -> 23 | D33: =SUM(D31:D32) -> 19 | E33: =SUM(E31:E32) -> 3 | F33: =SUM(F31:F32) -> 1
A34: 예술체육대학 | B34: 조형예술학과 | C34: =D34+E34+F34 -> 1 | D34: =COUNTIFS(연구실리스트!$C$4:$C$339,'대상현황(갑) '!B34,연구실리스트!$E$4:$E$339,'대상현황(갑) '!D$4) -> 1 | E34: =COUNTIFS(연구실리스트!$C$4:$C$339,'대상현황(갑) '!B34,연구실리스트!$E$4:$E$339,'대상현황(갑) '!E$4) -> 0 | F34: =COUNTIFS(연구실리스트!$C$4:$C$339,'대상현황(갑) '!B34,연구실리스트!$E$4:$E$339,'대상현황(갑) '!F$4) -> 0
B35: 스포츠과학과 | C35: =D35+E35+F35 -> 2 | D35: =COUNTIFS(연구실리스트!$C$4:$C$339,'대상현황(갑) '!B35,연구실리스트!$E$4:$E$339,'대상현황(갑) '!D$4) -> 2 | E35: =COUNTIFS(연구실리스트!$C$4:$C$339,'대상현황(갑) '!B35,연구실리스트!$E$4:$E$339,'대상현황(갑) '!E$4) -> 0 | F35: =COUNTIFS(연구실리스트!$C$4:$C$339,'대상현황(갑) '!B35,연구실리스트!$E$4:$E$339,'대상현황(갑) '!F$4) -> 0
B36: 의류디자인학과 | C36: =D36+E36+F36 -> 4 | D36: =COUNTIFS(연구실리스트!$C$4:$C$339,'대상현황(갑) '!B36,연구실리스트!$E$4:$E$339,'대상현황(갑) '!D$4) -> 2 | E36: =COUNTIFS(연구실리스트!$C$4:$C$339,'대상현황(갑) '!B36,연구실리스트!$E$4:$E$339,'대상현황(갑) '!E$4) -> 0 | F36: =COUNTIFS(연구실리스트!$C$4:$C$339,'대상현황(갑) '!B36,연구실리스트!$E$4:$E$339,'대상현황(갑) '!F$4) -> 2
B37: 소 계 | C37: =SUM(C34:C36) -> 7 | D37: =SUM(D34:D36) -> 5 | E37: =SUM(E34:E36) -> 0 | F37: =SUM(F34:F36) -> 2
A38: 소프트웨어융합대학 | B38: 컴퓨터공학과 | C38: =D38+E38+F38 -> 3 | D38: =COUNTIFS(연구실리스트!$C$4:$C$339,'대상현황(갑) '!B38,연구실리스트!$E$4:$E$339,'대상현황(갑) '!D$4) -> 0 | E38: =COUNTIFS(연구실리스트!$C$4:$C$339,'대상현황(갑) '!B38,연구실리스트!$E$4:$E$339,'대상현황(갑) '!E$4) -> 0 | F38: =COUNTIFS(연구실리스트!$C$4:$C$339,'대상현황(갑) '!B38,연구실리스트!$E$4:$E$339,'대상현황(갑) '!F$4) -> 3
B39: 소프트웨어융합대학행정실 | C39: =D39+E39+F39 -> 4 | D39: =COUNTIFS(연구실리스트!$C$4:$C$339,'대상현황(갑) '!B39,연구실리스트!$E$4:$E$339,'대상현황(갑) '!D$4) -> 0 | E39: =COUNTIFS(연구실리스트!$C$4:$C$339,'대상현황(갑) '!B39,연구실리스트!$E$4:$E$339,'대상현황(갑) '!E$4) -> 0 | F39: =COUNTIFS(연구실리스트!$C$4:$C$339,'대상현황(갑) '!B39,연구실리스트!$E$4:$E$339,'대상현황(갑) '!F$4) -> 4
B40: 소 계 | C40: =SUM(C38:C39) -> 7 | D40: =SUM(D38:D39) -> 0 | E40: =SUM(E38:E39) -> 0 | F40: =SUM(F38:F39) -> 7
A41: 기타 | B41: 스포츠레저섬유연구센터 | C41: =D41+E41+F41 -> 2 | D41: =COUNTIFS(연구실리스트!$C$4:$C$339,'대상현황(갑) '!B41,연구실리스트!$E$4:$E$339,'대상현황(갑) '!D$4) -> 0 | E41: =COUNTIFS(연구실리스트!$C$4:$C$339,'대상현황(갑) '!B41,연구실리스트!$E$4:$E$339,'대상현황(갑) '!E$4) -> 0 | F41: =COUNTIFS(연구실리스트!$C$4:$C$339,'대상현황(갑) '!B41,연구실리스트!$E$4:$E$339,'대상현황(갑) '!F$4) -> 2
B42: 제조혁신전문대학원 | C42: =D42+E42+F42 -> 1 | D42: =COUNTIFS(연구실리스트!$C$4:$C$339,'대상현황(갑) '!B42,연구실리스트!$E$4:$E$339,'대상현황(갑) '!D$4) -> 0 | E42: =COUNTIFS(연구실리스트!$C$4:$C$339,'대상현황(갑) '!B42,연구실리스트!$E$4:$E$339,'대상현황(갑) '!E$4) -> 0 | F42: =COUNTIFS(연구실리스트!$C$4:$C$339,'대상현황(갑) '!B42,연구실리스트!$E$4:$E$339,'대상현황(갑) '!F$4) -> 1
B43: 체육교육과 | C43: =D43+E43+F43 -> 1 | D43: =COUNTIFS(연구실리스트!$C$4:$C$339,'대상현황(갑) '!B43,연구실리스트!$E$4:$E$339,'대상현황(갑) '!D$4) -> 1 | E43: =COUNTIFS(연구실리스트!$C$4:$C$339,'대상현황(갑) '!B43,연구실리스트!$E$4:$E$339,'대상현황(갑) '!E$4) -> 0 | F43: =COUNTIFS(연구실리스트!$C$4:$C$339,'대상현황(갑) '!B43,연구실리스트!$E$4:$E$339,'대상현황(갑) '!F$4) -> 0
B44: 소재연구소 | C44: =D44+E44+F44 -> 1 | D44: =COUNTIFS(연구실리스트!$C$4:$C$339,'대상현황(갑) '!B44,연구실리스트!$E$4:$E$339,'대상현황(갑) '!D$4) -> 1 | E44: =COUNTIFS(연구실리스트!$C$4:$C$339,'대상현황(갑) '!B44,연구실리스트!$E$4:$E$339,'대상현황(갑) '!E$4) -> 0 | F44: =COUNTIFS(연구실리스트!$C$4:$C$339,'대상현황(갑) '!B44,연구실리스트!$E$4:$E$339,'대상현황(갑) '!F$4) -> 0
B45: 산학협력단 | C45: =D45+E45+F45 -> 12 | D45: =COUNTIFS(연구실리스트!$C$4:$C$339,'대상현황(갑) '!B45,연구실리스트!$E$4:$E$339,'대상현황(갑) '!D$4) -> 10 | E45: =COUNTIFS(연구실리스트!$C$4:$C$339,'대상현황(갑) '!B45,연구실리스트!$E$4:$E$339,'대상현황(갑) '!E$4) -> 2 | F45: =COUNTIFS(연구실리스트!$C$4:$C$339,'대상현황(갑) '!B45,연구실리스트!$E$4:$E$339,'대상현황(갑) '!F$4) -> 0
B46: 소 계 | C46: =SUM(C41:C45) -> 17 | D46: =SUM(D41:D45) -> 12 | E46: =SUM(E41:E45) -> 2 | F46: =SUM(F41:F45) -> 3
A47: 등급별 총계 | C47: =C27+C33+C37+C46+C20+C40+C30 -> 336 | D47: =D27+D33+D37+D46+D20+D40+D30 -> 225 | E47: =E27+E33+E37+E46+E20+E40+E30 -> 68 | F47: =F27+F33+F37+F46+F20+F40+F30 -> 43 | H47: =SUM(D47:F47) -> 336

Sheet 연구실리스트
A1: 2024년 연구/실험실 리스트
F2: 2024.03.13
A3: No | B3: 호관호실 | C3: 관리전공 | D3: 호실명칭 | E3: 위험등급 | F3: 연구실책임자 | G3: 안전관리담당자
A4: 1 | B4: 5E307 | C4: 간호학과 | D4: 기본간호실습실 | E4: 중위험 | F4: 김화순 | G4: 박소현
A5: 2 | B5: 2S136 | C5: 건축공학과 | D5: 건축구조실험실(건축구조 학부, 대학원 공동사용) | E5: 중위험 | F5: 김창혁 | G5: 김영민
A6: 3 | B6: 2S430A | C6: 건축공학과 | D6: CAD실습실(전산실습실) | E6: 저위험 | F6: 홍승완 | G6: 변용제
A7: 4 | B7: 6-142A | C7: 건축공학과 | D7: 연구용실험실((18.06~21.05) 2021.12 반납예정 | E7: 중위험 | F7: 박진호 | G7: 정세정
A8: 5 | B8: 2N103 | C8: 고분자공학과 | D8: 공동기기실4 | E8: 고위험 | F8: 김희중 | G8: 송하현, 최도영
A9: 6 | B9: 2N470A | C9: 고분자공학과 | D9: 공동기기분석실2 | E9: 고위험 | F9: 진형준 | G9: 김지현
A10: 7 | B10: 2N470B | C10: 고분자공학과 | D10: 학부 실험실 | E10: 고위험 | F10: 최우혁 | G10: 채진아
A11: 8 | B11: 2N567 | C11: 고분자공학과 | D11: 고분자에너지소재연구실 | E11: 고위험 | F11: 최우혁 | G11: 권혁수
A12: 9 | B12: 2N568 | C12: 고분자공학과 | D12: 연성물질연구실 | E12: 고위험 | F12: 김상원 | G12: 최소현
A13: 10 | B13: 2N569 | C13: 고분자공학과 | D13: 첨단소재연구실 | E13: 고위험 | F13: 김희중 | G13: 김혜인, 송하현
A14: 11 | B14: 2N570 | C14: 고분자공학과 | D14: Nano/Bio Polymeric Materials Lab | E14: 고위험 | F14: 진형준 | G14: 김지현
A15: 12 | B15: 2N576B | C15: 고분자공학과 | D15: 표면 및 계면 응용 공학 소재 연구실 | E15: 고위험 | F15: 강홍석 | G15: 장지수
... A339: 336 | B339: 2E460 | C339: 환경공학과 | D339: 기기분석실 | E339: 고위험 | F339: 황용우 | G339: 조경철
